BEGIN:VCALENDAR
VERSION:2.0
PRODID:-//Brain Tumour Foundation of Canada - ECPv6.15.16//NONSGML v1.0//EN
CALSCALE:GREGORIAN
METHOD:PUBLISH
X-WR-CALNAME:Brain Tumour Foundation of Canada
X-ORIGINAL-URL:https://www.braintumour.ca
X-WR-CALDESC:Events for Brain Tumour Foundation of Canada
REFRESH-INTERVAL;VALUE=DURATION:PT1H
X-Robots-Tag:noindex
X-PUBLISHED-TTL:PT1H
BEGIN:VTIMEZONE
TZID:America/Toronto
BEGIN:DAYLIGHT
TZOFFSETFROM:-0500
TZOFFSETTO:-0400
TZNAME:EDT
DTSTART:20250309T070000
END:DAYLIGHT
BEGIN:STANDARD
TZOFFSETFROM:-0400
TZOFFSETTO:-0500
TZNAME:EST
DTSTART:20251102T060000
END:STANDARD
BEGIN:DAYLIGHT
TZOFFSETFROM:-0500
TZOFFSETTO:-0400
TZNAME:EDT
DTSTART:20260308T070000
END:DAYLIGHT
BEGIN:STANDARD
TZOFFSETFROM:-0400
TZOFFSETTO:-0500
TZNAME:EST
DTSTART:20261101T060000
END:STANDARD
BEGIN:DAYLIGHT
TZOFFSETFROM:-0500
TZOFFSETTO:-0400
TZNAME:EDT
DTSTART:20270314T070000
END:DAYLIGHT
BEGIN:STANDARD
TZOFFSETFROM:-0400
TZOFFSETTO:-0500
TZNAME:EST
DTSTART:20271107T060000
END:STANDARD
END:VTIMEZONE
BEGIN:VEVENT
DTSTART;TZID=America/Toronto:20260418T110000
DTEND;TZID=America/Toronto:20260418T140000
DTSTAMP:20260424T133000
CREATED:20260413T144326Z
LAST-MODIFIED:20260413T144702Z
UID:10002396-1776510000-1776520800@www.braintumour.ca
SUMMARY:BC BrainWAVE Event | Fire Hall Family Game Day
DESCRIPTION:Lower Mainland BC area BrainWAVE families are invited to a special community day at the Surrey Union Hall Fire Station—a place where connection\, laughter\, and support come together.\n\n  \nEvent Details:\n\nLocation: Surrey Union Hall Fire Station Local 1271\nDate: Saturday\, April 18 \, 2026\nTime: 11:00 a.m. – 2:00 p.m.\n\n\n  \nREGISTER NOW! Click here.\n\n  \nWhat to Expect:\n\nOutdoor yard games\, face painting\, and other activities\nDelicious snacks\, pizza lunch\, drinks\nA unique opportunity to visit the historic Union Hall fire station (Surrey Firefighters Local 1271)\nTime to meet and connect with other families\nThis event is designed to give families a chance to step away from the everyday\, enjoy outdoor games\, and connect with others in a relaxed and uplifting environment. Whether you’re looking to play\, relax\, or simply enjoy a meal together\, this day is for you.\nBring the whole family and enjoy a day filled with smiles\, fresh air\, and community spirit!\n\n  \nIf you have any questions about our BrainWAVE program or this event\, please contact Ben Seewald at bseewald@braintumour.ca.
URL:https://www.braintumour.ca/event/bc-brainwave-event-fire-hall-family-game-day/
LOCATION:surrey Union Hall Fire Station Local 1271\, 18922 88 Ave\, Surrey\, British Columbia\, V4N 5X8
ATTACH;FMTTYPE=image/jpeg:https://www.braintumour.ca/wp-content/uploads/2026/04/571312034_1335990575206208_7949015589769789470_n.jpg
END:VEVENT
END:VCALENDAR