BEGIN:VCALENDAR
VERSION:2.0
PRODID:-//Brain Tumour Foundation of Canada - ECPv6.15.16//NONSGML v1.0//EN
CALSCALE:GREGORIAN
METHOD:PUBLISH
X-WR-CALNAME:Brain Tumour Foundation of Canada
X-ORIGINAL-URL:https://www.braintumour.ca
X-WR-CALDESC:Events for Brain Tumour Foundation of Canada
REFRESH-INTERVAL;VALUE=DURATION:PT1H
X-Robots-Tag:noindex
X-PUBLISHED-TTL:PT1H
BEGIN:VTIMEZONE
TZID:America/Toronto
BEGIN:DAYLIGHT
TZOFFSETFROM:-0500
TZOFFSETTO:-0400
TZNAME:EDT
DTSTART:20250309T070000
END:DAYLIGHT
BEGIN:STANDARD
TZOFFSETFROM:-0400
TZOFFSETTO:-0500
TZNAME:EST
DTSTART:20251102T060000
END:STANDARD
BEGIN:DAYLIGHT
TZOFFSETFROM:-0500
TZOFFSETTO:-0400
TZNAME:EDT
DTSTART:20260308T070000
END:DAYLIGHT
BEGIN:STANDARD
TZOFFSETFROM:-0400
TZOFFSETTO:-0500
TZNAME:EST
DTSTART:20261101T060000
END:STANDARD
BEGIN:DAYLIGHT
TZOFFSETFROM:-0500
TZOFFSETTO:-0400
TZNAME:EDT
DTSTART:20270314T070000
END:DAYLIGHT
BEGIN:STANDARD
TZOFFSETFROM:-0400
TZOFFSETTO:-0500
TZNAME:EST
DTSTART:20271107T060000
END:STANDARD
END:VTIMEZONE
BEGIN:VEVENT
DTSTART;TZID=America/Toronto:20260523T110000
DTEND;TZID=America/Toronto:20260523T170000
DTSTAMP:20260424T044610
CREATED:20260420T180015Z
LAST-MODIFIED:20260420T184640Z
UID:10002397-1779534000-1779555600@www.braintumour.ca
SUMMARY:Edmonton BrainWAVE Event | TELUS World Of Science
DESCRIPTION:Families in Alberta with a child under the age of 19 affected by a brain tumour are invited to join us for a special day of connection and discovery. Families will enjoy lunch together in a private meeting room\, followed by an inspiring IMAX screening of Superpower Dogs at 2:20 p.m.\, a powerful story of courage\, teamwork\, and the unique bond between humans and dogs. \n\n\nGuests will also have the opportunity to explore the Science Centre\, including a wide range of interactive exhibits and attractions such as the S.P.A.C.E. Gallery\, Arctic Journey\, Zeidler Dome shows\, The Science Garage\, The Health Zone\, The Nature Exchange\, CuriousCITY\, Exploration Stations and the Syncrude Science Stage. Families are welcome to enjoy the facility until closing at 5 p.m. \n\nBrainWAVE is a support program designed for families with a child or teen (19 years of age or younger) living with a brain tumour. It offers a meaningful opportunity to connect with others who understand\, while accessing valuable support\, information and resources.\n \nEvent Details:\nDate: Saturday\, May 23\, 2026\nTime: 11 a.m. – 5 p.m.\nLocation: TELUS World Of Science Edmonton (TWOSE) | 11211 142 St. NW Edmonton\, AB T5M 4A1This event will be open to all of Alberta\, hosted by the Edmonton BrainWAVE committee.\n \n\nRegister now 
URL:https://www.braintumour.ca/event/edmonton-brainwave-event-telus-world-of-science/
LOCATION:TELUS World Of Science Edmonton (TWOSE) | 11211 142 St. NW Edmonton\, AB T5M 4A1\, 11211 142 St. NW\, Edmonton\, AB\, T5M 4A1
CATEGORIES:BrainWAVE
ATTACH;FMTTYPE=image/png:https://www.braintumour.ca/wp-content/uploads/2026/04/science-center.png
END:VEVENT
END:VCALENDAR