BEGIN:VCALENDAR
VERSION:2.0
PRODID:-//Brain Tumour Foundation of Canada - ECPv6.15.16//NONSGML v1.0//EN
CALSCALE:GREGORIAN
METHOD:PUBLISH
X-ORIGINAL-URL:https://www.braintumour.ca
X-WR-CALDESC:Events for Brain Tumour Foundation of Canada
REFRESH-INTERVAL;VALUE=DURATION:PT1H
X-Robots-Tag:noindex
X-PUBLISHED-TTL:PT1H
BEGIN:VTIMEZONE
TZID:America/Sao_Paulo
BEGIN:STANDARD
TZOFFSETFROM:-0300
TZOFFSETTO:-0300
TZNAME:-03
DTSTART:20250101T000000
END:STANDARD
END:VTIMEZONE
BEGIN:VEVENT
DTSTART;TZID=America/Sao_Paulo:20260407T190000
DTEND;TZID=America/Sao_Paulo:20260414T203000
DTSTAMP:20260424T083106
CREATED:20260109T181034Z
LAST-MODIFIED:20260109T181034Z
UID:10001995-1775588400-1776198600@www.braintumour.ca
SUMMARY:London Support Group
DESCRIPTION:Brain Tumour Support Groups allow patients\, survivors\, and caregivers to share their experiences and feelings in a safe and confidential environment\, as well as to give and receive information or support from others going through parallel diagnoses. \nYou can share experiences\, pass on knowledge and gain peer support in a confidential and relaxed atmosphere at a monthly adult Brain Tumour Support Group. New members are always welcome. \nLearn more
URL:https://www.braintumour.ca/event/london-support-group/2026-04-07/
LOCATION:Trinity Lutheran Church\, 746 Colborne Street\, London\, ON\, Canada
CATEGORIES:Support Groups
ATTACH;FMTTYPE=image/png:https://www.braintumour.ca/wp-content/uploads/2025/05/support-group-survey-tile.png
END:VEVENT
BEGIN:VEVENT
DTSTART;TZID=America/Sao_Paulo:20260303T190000
DTEND;TZID=America/Sao_Paulo:20260310T203000
DTSTAMP:20260424T083106
CREATED:20260109T181034Z
LAST-MODIFIED:20260109T181034Z
UID:10001994-1772564400-1773174600@www.braintumour.ca
SUMMARY:London Support Group
DESCRIPTION:Brain Tumour Support Groups allow patients\, survivors\, and caregivers to share their experiences and feelings in a safe and confidential environment\, as well as to give and receive information or support from others going through parallel diagnoses. \nYou can share experiences\, pass on knowledge and gain peer support in a confidential and relaxed atmosphere at a monthly adult Brain Tumour Support Group. New members are always welcome. \nLearn more
URL:https://www.braintumour.ca/event/london-support-group/2026-03-03/
LOCATION:Trinity Lutheran Church\, 746 Colborne Street\, London\, ON\, Canada
CATEGORIES:Support Groups
ATTACH;FMTTYPE=image/png:https://www.braintumour.ca/wp-content/uploads/2025/05/support-group-survey-tile.png
END:VEVENT
BEGIN:VEVENT
DTSTART;TZID=America/Sao_Paulo:20260203T190000
DTEND;TZID=America/Sao_Paulo:20260210T203000
DTSTAMP:20260424T083106
CREATED:20260109T181034Z
LAST-MODIFIED:20260109T181034Z
UID:10001993-1770145200-1770755400@www.braintumour.ca
SUMMARY:London Support Group
DESCRIPTION:Brain Tumour Support Groups allow patients\, survivors\, and caregivers to share their experiences and feelings in a safe and confidential environment\, as well as to give and receive information or support from others going through parallel diagnoses. \nYou can share experiences\, pass on knowledge and gain peer support in a confidential and relaxed atmosphere at a monthly adult Brain Tumour Support Group. New members are always welcome. \nLearn more
URL:https://www.braintumour.ca/event/london-support-group/2026-02-03/
LOCATION:Trinity Lutheran Church\, 746 Colborne Street\, London\, ON\, Canada
CATEGORIES:Support Groups
ATTACH;FMTTYPE=image/png:https://www.braintumour.ca/wp-content/uploads/2025/05/support-group-survey-tile.png
END:VEVENT
END:VCALENDAR